BEGIN:VCALENDAR
VERSION:2.0
PRODID:-//EFSD - ECPv6.15.19//NONSGML v1.0//EN
CALSCALE:GREGORIAN
METHOD:PUBLISH
X-ORIGINAL-URL:https://ecolefrancaise.de
X-WR-CALDESC:Évènements pour EFSD
REFRESH-INTERVAL;VALUE=DURATION:PT1H
X-Robots-Tag:noindex
X-PUBLISHED-TTL:PT1H
BEGIN:VTIMEZONE
TZID:Europe/Paris
BEGIN:DAYLIGHT
TZOFFSETFROM:+0100
TZOFFSETTO:+0200
TZNAME:CEST
DTSTART:20230326T010000
END:DAYLIGHT
BEGIN:STANDARD
TZOFFSETFROM:+0200
TZOFFSETTO:+0100
TZNAME:CET
DTSTART:20231029T010000
END:STANDARD
BEGIN:DAYLIGHT
TZOFFSETFROM:+0100
TZOFFSETTO:+0200
TZNAME:CEST
DTSTART:20240331T010000
END:DAYLIGHT
BEGIN:STANDARD
TZOFFSETFROM:+0200
TZOFFSETTO:+0100
TZNAME:CET
DTSTART:20241027T010000
END:STANDARD
BEGIN:DAYLIGHT
TZOFFSETFROM:+0100
TZOFFSETTO:+0200
TZNAME:CEST
DTSTART:20250330T010000
END:DAYLIGHT
BEGIN:STANDARD
TZOFFSETFROM:+0200
TZOFFSETTO:+0100
TZNAME:CET
DTSTART:20251026T010000
END:STANDARD
END:VTIMEZONE
BEGIN:VEVENT
DTSTART;TZID=Europe/Paris:20240307T000000
DTEND;TZID=Europe/Paris:20240307T235959
DTSTAMP:20260424T144631
CREATED:20240309T084908Z
LAST-MODIFIED:20240309T084911Z
UID:33559-1709769600-1709855999@ecolefrancaise.de
SUMMARY:CP : 100ème jour d'école - 100 Tage Schule
DESCRIPTION:
URL:https://ecolefrancaise.de/event/cp-100eme-jour-decole-100-tage-schule/
ATTACH;FMTTYPE=image/jpeg:https://ecolefrancaise.de/files/2024/03/100e-IMG_5599-scaled.jpg
END:VEVENT
BEGIN:VEVENT
DTSTART;TZID=Europe/Paris:20240314T173000
DTEND;TZID=Europe/Paris:20240314T193000
DTSTAMP:20260424T144631
CREATED:20240309T085243Z
LAST-MODIFIED:20240309T085527Z
UID:33561-1710437400-1710444600@ecolefrancaise.de
SUMMARY:APE : Assemblée générale - Mitgliederversammlung
DESCRIPTION:APE : Assemblée générale / Mitgliederversammlung
URL:https://ecolefrancaise.de/event/ape-assemblee-generale-mitgliederversammlung-3/
ATTACH;FMTTYPE=image/jpeg:https://ecolefrancaise.de/files/2024/03/Copie-de-Copie-de-Blue-Yellow-Creative-Happy-College-Students-Instagram-Post.jpg
END:VEVENT
BEGIN:VEVENT
DTSTART;TZID=Europe/Paris:20240322T083000
DTEND;TZID=Europe/Paris:20240322T130000
DTSTAMP:20260424T144631
CREATED:20240309T084708Z
LAST-MODIFIED:20240309T084711Z
UID:33556-1711096200-1711112400@ecolefrancaise.de
SUMMARY:CE2-CM1-CM2 : Tournoi "Joueur But"
DESCRIPTION:Tournoi « Joueur But » des classes de CE2-CM1-CM2 \n\n\n\nDeckarmhalle
URL:https://ecolefrancaise.de/event/ce2-cm1-cm2-tournoi-joueur-but/
ATTACH;FMTTYPE=image/jpeg:https://ecolefrancaise.de/files/2024/03/IMG_5611-scaled.jpg
END:VEVENT
BEGIN:VEVENT
DTSTART;TZID=Europe/Paris:20240323T000000
DTEND;TZID=Europe/Paris:20240407T235959
DTSTAMP:20260424T144631
CREATED:20240107T191446Z
LAST-MODIFIED:20240107T191449Z
UID:32534-1711152000-1712534399@ecolefrancaise.de
SUMMARY:Vacances de printemps / Osterferien
DESCRIPTION:OsterferienVon Freitag\, 22. März\, nach dem Unterrichtbis Montag\, 8. April 2024\, morgensVacances de Pâques        du vendredi 22 mars après la classe au lundi 8 avril 2024 au matin
URL:https://ecolefrancaise.de/event/vacances-de-printemps-osterferien-3/
ATTACH;FMTTYPE=image/jpeg:https://ecolefrancaise.de/files/2023/04/IMG_5393.jpg
END:VEVENT
END:VCALENDAR