BEGIN:VCALENDAR
VERSION:2.0
PRODID:-//EFSD - ECPv6.15.19//NONSGML v1.0//EN
CALSCALE:GREGORIAN
METHOD:PUBLISH
X-ORIGINAL-URL:https://ecolefrancaise.de
X-WR-CALDESC:Évènements pour EFSD
REFRESH-INTERVAL;VALUE=DURATION:PT1H
X-Robots-Tag:noindex
X-PUBLISHED-TTL:PT1H
BEGIN:VTIMEZONE
TZID:Europe/Paris
BEGIN:DAYLIGHT
TZOFFSETFROM:+0100
TZOFFSETTO:+0200
TZNAME:CEST
DTSTART:20220327T010000
END:DAYLIGHT
BEGIN:STANDARD
TZOFFSETFROM:+0200
TZOFFSETTO:+0100
TZNAME:CET
DTSTART:20221030T010000
END:STANDARD
BEGIN:DAYLIGHT
TZOFFSETFROM:+0100
TZOFFSETTO:+0200
TZNAME:CEST
DTSTART:20230326T010000
END:DAYLIGHT
BEGIN:STANDARD
TZOFFSETFROM:+0200
TZOFFSETTO:+0100
TZNAME:CET
DTSTART:20231029T010000
END:STANDARD
BEGIN:DAYLIGHT
TZOFFSETFROM:+0100
TZOFFSETTO:+0200
TZNAME:CEST
DTSTART:20240331T010000
END:DAYLIGHT
BEGIN:STANDARD
TZOFFSETFROM:+0200
TZOFFSETTO:+0100
TZNAME:CET
DTSTART:20241027T010000
END:STANDARD
END:VTIMEZONE
BEGIN:VEVENT
DTSTART;TZID=Europe/Paris:20230906T080000
DTEND;TZID=Europe/Paris:20230906T170000
DTSTAMP:20260424T230130
CREATED:20230611T135803Z
LAST-MODIFIED:20230611T135805Z
UID:29756-1693987200-1694019600@ecolefrancaise.de
SUMMARY:Rentrée des classes / Schulbeginn
DESCRIPTION:
URL:https://ecolefrancaise.de/event/rentree-des-classes-schulbeginn/
ATTACH;FMTTYPE=image/jpeg:https://ecolefrancaise.de/files/2022/09/IMG_8963-scaled.jpg
END:VEVENT
BEGIN:VEVENT
DTSTART;TZID=Europe/Paris:20230925T173000
DTEND;TZID=Europe/Paris:20230925T183000
DTSTAMP:20260424T230130
CREATED:20230925T213054Z
LAST-MODIFIED:20230925T213329Z
UID:30907-1695663000-1695666600@ecolefrancaise.de
SUMMARY:Informationsabend / Soirée d'information
DESCRIPTION:A l’intention des familles n’ayant pas encore d’enfants à l’EFSD \n\n\n\nInscription / Anmeldung : https://docs.google.com/forms/d/e/1FAIpQLSeNntkGJm3WGlT8wkxK72MBD3kn6T_iAIuUBEXToTSfVXZ7Jw/viewform
URL:https://ecolefrancaise.de/event/informationsabend-soiree-dinformation/
ATTACH;FMTTYPE=image/jpeg:https://ecolefrancaise.de/files/2023/09/Poster-promotion-ecole_FR.jpg
END:VEVENT
END:VCALENDAR