BEGIN:VCALENDAR
VERSION:2.0
PRODID:-//EFSD - ECPv6.15.19//NONSGML v1.0//EN
CALSCALE:GREGORIAN
METHOD:PUBLISH
X-ORIGINAL-URL:https://ecolefrancaise.de
X-WR-CALDESC:Évènements pour EFSD
REFRESH-INTERVAL;VALUE=DURATION:PT1H
X-Robots-Tag:noindex
X-PUBLISHED-TTL:PT1H
BEGIN:VTIMEZONE
TZID:Europe/Paris
BEGIN:DAYLIGHT
TZOFFSETFROM:+0100
TZOFFSETTO:+0200
TZNAME:CEST
DTSTART:20230326T010000
END:DAYLIGHT
BEGIN:STANDARD
TZOFFSETFROM:+0200
TZOFFSETTO:+0100
TZNAME:CET
DTSTART:20231029T010000
END:STANDARD
BEGIN:DAYLIGHT
TZOFFSETFROM:+0100
TZOFFSETTO:+0200
TZNAME:CEST
DTSTART:20240331T010000
END:DAYLIGHT
BEGIN:STANDARD
TZOFFSETFROM:+0200
TZOFFSETTO:+0100
TZNAME:CET
DTSTART:20241027T010000
END:STANDARD
BEGIN:DAYLIGHT
TZOFFSETFROM:+0100
TZOFFSETTO:+0200
TZNAME:CEST
DTSTART:20250330T010000
END:DAYLIGHT
BEGIN:STANDARD
TZOFFSETFROM:+0200
TZOFFSETTO:+0100
TZNAME:CET
DTSTART:20251026T010000
END:STANDARD
END:VTIMEZONE
BEGIN:VEVENT
DTSTART;TZID=Europe/Paris:20240508T000000
DTEND;TZID=Europe/Paris:20240509T235959
DTSTAMP:20260424T133655
CREATED:20240417T082931Z
LAST-MODIFIED:20240417T082933Z
UID:34149-1715126400-1715299199@ecolefrancaise.de
SUMMARY:Jour férié + Pont / Feiertag + Brückentag
DESCRIPTION:Ascension / Christi Himmelfahrt + Pont + Brückentag \n\n\n\nReprise de la classe le lundi 13 mai 2024.
URL:https://ecolefrancaise.de/event/jour-ferie-pont-feiertag-bruckentag/
END:VEVENT
END:VCALENDAR