BEGIN:VCALENDAR
VERSION:2.0
PRODID:-//EFSD - ECPv6.15.19//NONSGML v1.0//EN
CALSCALE:GREGORIAN
METHOD:PUBLISH
X-WR-CALNAME:EFSD
X-ORIGINAL-URL:https://ecolefrancaise.de
X-WR-CALDESC:Évènements pour EFSD
REFRESH-INTERVAL;VALUE=DURATION:PT1H
X-Robots-Tag:noindex
X-PUBLISHED-TTL:PT1H
BEGIN:VTIMEZONE
TZID:Europe/Paris
BEGIN:DAYLIGHT
TZOFFSETFROM:+0100
TZOFFSETTO:+0200
TZNAME:CEST
DTSTART:20230326T010000
END:DAYLIGHT
BEGIN:STANDARD
TZOFFSETFROM:+0200
TZOFFSETTO:+0100
TZNAME:CET
DTSTART:20231029T010000
END:STANDARD
BEGIN:DAYLIGHT
TZOFFSETFROM:+0100
TZOFFSETTO:+0200
TZNAME:CEST
DTSTART:20240331T010000
END:DAYLIGHT
BEGIN:STANDARD
TZOFFSETFROM:+0200
TZOFFSETTO:+0100
TZNAME:CET
DTSTART:20241027T010000
END:STANDARD
BEGIN:DAYLIGHT
TZOFFSETFROM:+0100
TZOFFSETTO:+0200
TZNAME:CEST
DTSTART:20250330T010000
END:DAYLIGHT
BEGIN:STANDARD
TZOFFSETFROM:+0200
TZOFFSETTO:+0100
TZNAME:CET
DTSTART:20251026T010000
END:STANDARD
END:VTIMEZONE
BEGIN:VEVENT
DTSTART;TZID=Europe/Paris:20240504T000000
DTEND;TZID=Europe/Paris:20240504T235959
DTSTAMP:20260424T133629
CREATED:20240417T081703Z
LAST-MODIFIED:20240428T161534Z
UID:34143-1714780800-1714867199@ecolefrancaise.de
SUMMARY:Élémentaire : Olympiades de l'EFSD
DESCRIPTION:Lieu : Stade Kieselhumes \n\n\n\nHoraires : 8:30/13:00 (voir les informations précises communiquées par les enseignants) \n\n\n\nEn route pour Paris 2024 … Olympiades d’athlétisme de l’EFSD\, un événement sportif pour célébrer les valeurs de l’Olympisme\n\n\n\nCourir vite\, lancer\, sauter loin\, courir en équipe … \n\n\n\nTous les 2 ans\, toutes les classes du CP au CM2 se retrouvent au stade du Kieselhumes pour une matinée d’athlétisme. \n\n\n\nLes olympiades de l’EFSD\, c’est avant tout un événement festif et sportif qui rassemble tous les élèves\, du CP au CM2\, de Sarrebruck et de Dilling.  Les parents bénévoles font également partie de cette fête du sport puisqu’ils sont sollicités pour animer les ateliers conçus par les enseignants.
URL:https://ecolefrancaise.de/event/elementaire-olympiades-de-lefsd-2/
ATTACH;FMTTYPE=image/webp:https://ecolefrancaise.de/files/2024/04/a13d177d-976a-4766-8935-241d40de0181-2.jpg.webp
END:VEVENT
END:VCALENDAR