BEGIN:VCALENDAR
VERSION:2.0
PRODID:-//EFSD - ECPv6.15.19//NONSGML v1.0//EN
CALSCALE:GREGORIAN
METHOD:PUBLISH
X-WR-CALNAME:EFSD
X-ORIGINAL-URL:https://ecolefrancaise.de
X-WR-CALDESC:Évènements pour EFSD
REFRESH-INTERVAL;VALUE=DURATION:PT1H
X-Robots-Tag:noindex
X-PUBLISHED-TTL:PT1H
BEGIN:VTIMEZONE
TZID:Europe/Paris
BEGIN:DAYLIGHT
TZOFFSETFROM:+0100
TZOFFSETTO:+0200
TZNAME:CEST
DTSTART:20220327T010000
END:DAYLIGHT
BEGIN:STANDARD
TZOFFSETFROM:+0200
TZOFFSETTO:+0100
TZNAME:CET
DTSTART:20221030T010000
END:STANDARD
BEGIN:DAYLIGHT
TZOFFSETFROM:+0100
TZOFFSETTO:+0200
TZNAME:CEST
DTSTART:20230326T010000
END:DAYLIGHT
BEGIN:STANDARD
TZOFFSETFROM:+0200
TZOFFSETTO:+0100
TZNAME:CET
DTSTART:20231029T010000
END:STANDARD
BEGIN:DAYLIGHT
TZOFFSETFROM:+0100
TZOFFSETTO:+0200
TZNAME:CEST
DTSTART:20240331T010000
END:DAYLIGHT
BEGIN:STANDARD
TZOFFSETFROM:+0200
TZOFFSETTO:+0100
TZNAME:CET
DTSTART:20241027T010000
END:STANDARD
END:VTIMEZONE
BEGIN:VEVENT
DTSTART;TZID=Europe/Paris:20231021T000000
DTEND;TZID=Europe/Paris:20231105T235959
DTSTAMP:20260424T212149
CREATED:20230907T120423Z
LAST-MODIFIED:20230907T121230Z
UID:30627-1697846400-1699228799@ecolefrancaise.de
SUMMARY:Vacances d'automne - Herbstferien
DESCRIPTION:Du vendredi 20 octobre après la classe au lundi 6 novembre 2023 au matin. \n\n\n\nVon Freitag\, 20. Oktober\, nach dem Unterricht bis Montag\, 6. November 2023\, morgens.
URL:https://ecolefrancaise.de/event/vacaces-dautomne-herbstferien/
ATTACH;FMTTYPE=image/jpeg:https://ecolefrancaise.de/files/2022/10/e018d715-801c-4945-98f3-100acd63326a.jpg
END:VEVENT
END:VCALENDAR