BEGIN:VCALENDAR
VERSION:2.0
PRODID:-//EFSD - ECPv6.15.19//NONSGML v1.0//EN
CALSCALE:GREGORIAN
METHOD:PUBLISH
X-ORIGINAL-URL:https://ecolefrancaise.de
X-WR-CALDESC:Évènements pour EFSD
REFRESH-INTERVAL;VALUE=DURATION:PT1H
X-Robots-Tag:noindex
X-PUBLISHED-TTL:PT1H
BEGIN:VTIMEZONE
TZID:Europe/Paris
BEGIN:DAYLIGHT
TZOFFSETFROM:+0100
TZOFFSETTO:+0200
TZNAME:CEST
DTSTART:20220327T010000
END:DAYLIGHT
BEGIN:STANDARD
TZOFFSETFROM:+0200
TZOFFSETTO:+0100
TZNAME:CET
DTSTART:20221030T010000
END:STANDARD
BEGIN:DAYLIGHT
TZOFFSETFROM:+0100
TZOFFSETTO:+0200
TZNAME:CEST
DTSTART:20230326T010000
END:DAYLIGHT
BEGIN:STANDARD
TZOFFSETFROM:+0200
TZOFFSETTO:+0100
TZNAME:CET
DTSTART:20231029T010000
END:STANDARD
BEGIN:DAYLIGHT
TZOFFSETFROM:+0100
TZOFFSETTO:+0200
TZNAME:CEST
DTSTART:20240331T010000
END:DAYLIGHT
BEGIN:STANDARD
TZOFFSETFROM:+0200
TZOFFSETTO:+0100
TZNAME:CET
DTSTART:20241027T010000
END:STANDARD
END:VTIMEZONE
BEGIN:VEVENT
DTSTART;TZID=Europe/Paris:20231002T000000
DTEND;TZID=Europe/Paris:20231003T235959
DTSTAMP:20260424T230116
CREATED:20230927T085334Z
LAST-MODIFIED:20230927T085338Z
UID:30915-1696204800-1696377599@ecolefrancaise.de
SUMMARY:Jour férié et Pont / Feiertag und Brückentag
DESCRIPTION:Feiertag (Tag der deutschen Einheit) + BrückentagMontag\, 2. Oktober + Dienstag\, 3. Oktober 2023 \n\n\n\nJour férié + PontLundi 2 octobre + mardi 3 octobre 2023
URL:https://ecolefrancaise.de/event/jour-ferie-et-pont-feiertag-und-bruckentag/
ATTACH;FMTTYPE=image/jpeg:https://ecolefrancaise.de/files/2023/09/berlin-1836822_1280.jpg
END:VEVENT
END:VCALENDAR